Package: NuPoP Version: 2.10.0 Command: /home/biocbuild/R/R-4.3.1/bin/R CMD build --keep-empty-dirs --no-resave-data NuPoP StartedAt: 2023-11-02 04:08:59 -0000 (Thu, 02 Nov 2023) EndedAt: 2023-11-02 04:09:16 -0000 (Thu, 02 Nov 2023) EllapsedTime: 17.0 seconds RetCode: 0 Status: OK PackageFile: NuPoP_2.10.0.tar.gz PackageFileSize: 6.132 MiB