Package: NormalyzerDE Version: 1.20.0 Command: /home/biocbuild/bbs-3.18-bioc/R/bin/R CMD build --keep-empty-dirs --no-resave-data NormalyzerDE StartedAt: 2024-04-15 18:13:58 -0400 (Mon, 15 Apr 2024) EndedAt: 2024-04-15 18:15:44 -0400 (Mon, 15 Apr 2024) EllapsedTime: 106.5 seconds RetCode: 0 Status: OK PackageFile: NormalyzerDE_1.20.0.tar.gz PackageFileSize: 1.112 MiB