Package: NoRCE Version: 1.14.0 Command: rm -rf NoRCE.buildbin-libdir && mkdir NoRCE.buildbin-libdir && F:\biocbuild\bbs-3.18-bioc\R\bin\R.exe CMD INSTALL --build --library=NoRCE.buildbin-libdir NoRCE_1.14.0.tar.gz StartedAt: 2024-04-16 07:22:36 -0400 (Tue, 16 Apr 2024) EndedAt: 2024-04-16 07:23:30 -0400 (Tue, 16 Apr 2024) EllapsedTime: 53.7 seconds RetCode: 0 Status: OK PackageFile: NoRCE_1.14.0.zip PackageFileSize: 2.362 MiB