Package: NoRCE Version: 1.14.0 Command: /Library/Frameworks/R.framework/Resources/bin/R CMD check --install=check:NoRCE.install-out.txt --library=/Library/Frameworks/R.framework/Resources/library --no-vignettes --timings NoRCE_1.14.0.tar.gz StartedAt: 2024-04-16 06:16:36 -0400 (Tue, 16 Apr 2024) EndedAt: 2024-04-16 06:26:14 -0400 (Tue, 16 Apr 2024) EllapsedTime: 578.6 seconds RetCode: 0 Status: OK CheckDir: NoRCE.Rcheck Warnings: 0