Package: NoRCE Version: 1.14.0 Command: /Library/Frameworks/R.framework/Resources/bin/R CMD build --keep-empty-dirs --no-resave-data NoRCE StartedAt: 2024-04-15 20:29:52 -0400 (Mon, 15 Apr 2024) EndedAt: 2024-04-15 20:32:18 -0400 (Mon, 15 Apr 2024) EllapsedTime: 145.2 seconds RetCode: 0 Status: OK PackageFile: NoRCE_1.14.0.tar.gz PackageFileSize: 2.025 MiB