Package: NewWave Version: 1.12.0 Command: /home/biocbuild/bbs-3.18-bioc/R/bin/R CMD INSTALL NewWave StartedAt: 2024-04-15 15:43:25 -0400 (Mon, 15 Apr 2024) EndedAt: 2024-04-15 15:43:53 -0400 (Mon, 15 Apr 2024) EllapsedTime: 27.4 seconds RetCode: 0 Status: OK