Package: NewWave Version: 1.12.0 Command: /Library/Frameworks/R.framework/Resources/bin/R CMD build --keep-empty-dirs --no-resave-data NewWave StartedAt: 2024-03-03 17:36:23 -0500 (Sun, 03 Mar 2024) EndedAt: 2024-03-03 17:38:35 -0500 (Sun, 03 Mar 2024) EllapsedTime: 132.7 seconds RetCode: 0 Status: OK PackageFile: NewWave_1.12.0.tar.gz PackageFileSize: 74.77 KiB