Package: NewWave Version: 1.12.0 Command: rm -rf NewWave.buildbin-libdir && mkdir NewWave.buildbin-libdir && /Users/biocbuild/BBS/utils/build-universal.sh NewWave_1.12.0.tar.gz /Library/Frameworks/R.framework/Resources/bin/R NewWave.buildbin-libdir StartedAt: 2024-03-04 00:53:45 -0500 (Mon, 04 Mar 2024) EndedAt: 2024-03-04 00:54:26 -0500 (Mon, 04 Mar 2024) EllapsedTime: 41.1 seconds RetCode: 0 Status: OK PackageFile: NewWave_1.12.0.tgz PackageFileSize: 403.5 KiB