Package: NeuCA Version: 1.8.1 Command: /home/biocbuild/bbs-3.18-bioc/R/bin/R CMD build --keep-empty-dirs --no-resave-data NeuCA StartedAt: 2024-04-15 18:12:37 -0400 (Mon, 15 Apr 2024) EndedAt: 2024-04-15 18:13:42 -0400 (Mon, 15 Apr 2024) EllapsedTime: 64.9 seconds RetCode: 0 Status: OK PackageFile: NeuCA_1.8.1.tar.gz PackageFileSize: 3.701 MiB