Package: NeuCA Version: 1.8.1 Command: /Library/Frameworks/R.framework/Resources/bin/R CMD check --install=check:NeuCA.install-out.txt --library=/Library/Frameworks/R.framework/Resources/library --no-vignettes --timings NeuCA_1.8.1.tar.gz StartedAt: 2024-04-16 06:13:43 -0400 (Tue, 16 Apr 2024) EndedAt: 2024-04-16 06:20:19 -0400 (Tue, 16 Apr 2024) EllapsedTime: 396.3 seconds RetCode: 0 Status: OK CheckDir: NeuCA.Rcheck Warnings: 0