Package: NeuCA Version: 1.8.1 Command: rm -rf NeuCA.buildbin-libdir && mkdir NeuCA.buildbin-libdir && /Users/biocbuild/BBS/utils/build-universal.sh NeuCA_1.8.1.tar.gz /Library/Frameworks/R.framework/Resources/bin/R NeuCA.buildbin-libdir StartedAt: 2024-04-16 12:19:57 -0400 (Tue, 16 Apr 2024) EndedAt: 2024-04-16 12:20:54 -0400 (Tue, 16 Apr 2024) EllapsedTime: 57.5 seconds RetCode: 0 Status: OK PackageFile: NeuCA_1.8.1.tgz PackageFileSize: 3.419 MiB