Package: NeuCA Version: 1.8.0 Command: /home/biocbuild/R/R-4.3.1/bin/R CMD check --install=check:NeuCA.install-out.txt --library=/home/biocbuild/R/R-4.3.1/site-library --no-vignettes --timings NeuCA_1.8.0.tar.gz StartedAt: 2023-11-02 12:41:25 -0000 (Thu, 02 Nov 2023) EndedAt: 2023-11-02 12:45:35 -0000 (Thu, 02 Nov 2023) EllapsedTime: 250.0 seconds RetCode: 0 Status: OK CheckDir: NeuCA.Rcheck Warnings: 0