Package: NetSAM Version: 1.42.0 Command: rm -rf NetSAM.buildbin-libdir && mkdir NetSAM.buildbin-libdir && F:\biocbuild\bbs-3.18-bioc\R\bin\R.exe CMD INSTALL --build --library=NetSAM.buildbin-libdir NetSAM_1.42.0.tar.gz StartedAt: 2024-04-16 07:22:12 -0400 (Tue, 16 Apr 2024) EndedAt: 2024-04-16 07:22:46 -0400 (Tue, 16 Apr 2024) EllapsedTime: 34.6 seconds RetCode: 0 Status: OK PackageFile: NetSAM_1.42.0.zip PackageFileSize: 1.212 MiB