Package: NetSAM Version: 1.42.0 Command: /Library/Frameworks/R.framework/Resources/bin/R CMD check --install=check:NetSAM.install-out.txt --library=/Library/Frameworks/R.framework/Resources/library --no-vignettes --timings NetSAM_1.42.0.tar.gz StartedAt: 2024-04-16 06:12:33 -0400 (Tue, 16 Apr 2024) EndedAt: 2024-04-16 06:49:29 -0400 (Tue, 16 Apr 2024) EllapsedTime: 2215.9 seconds RetCode: 0 Status: OK CheckDir: NetSAM.Rcheck Warnings: 0