Package: NetPathMiner Version: 1.38.0 Command: rm -rf NetPathMiner.buildbin-libdir && mkdir NetPathMiner.buildbin-libdir && F:\biocbuild\bbs-3.18-bioc\R\bin\R.exe CMD INSTALL --build --library=NetPathMiner.buildbin-libdir NetPathMiner_1.38.0.tar.gz StartedAt: 2024-04-16 07:22:06 -0400 (Tue, 16 Apr 2024) EndedAt: 2024-04-16 07:23:14 -0400 (Tue, 16 Apr 2024) EllapsedTime: 67.5 seconds RetCode: 0 Status: OK PackageFile: NetPathMiner_1.38.0.zip PackageFileSize: 1.769 MiB