Package: NetActivity Version: 1.4.0 Command: /Library/Frameworks/R.framework/Resources/bin/R CMD check --install=check:NetActivity.install-out.txt --library=/Library/Frameworks/R.framework/Resources/library --no-vignettes --timings NetActivity_1.4.0.tar.gz StartedAt: 2024-03-03 22:10:35 -0500 (Sun, 03 Mar 2024) EndedAt: 2024-03-03 22:15:15 -0500 (Sun, 03 Mar 2024) EllapsedTime: 279.3 seconds RetCode: 0 Status: OK CheckDir: NetActivity.Rcheck Warnings: 0