Package: NetActivity Version: 1.4.0 Command: rm -rf NetActivity.buildbin-libdir && mkdir NetActivity.buildbin-libdir && /Users/biocbuild/BBS/utils/build-universal.sh NetActivity_1.4.0.tar.gz /Library/Frameworks/R.framework/Resources/bin/R NetActivity.buildbin-libdir StartedAt: 2024-03-04 00:53:31 -0500 (Mon, 04 Mar 2024) EndedAt: 2024-03-04 00:54:09 -0500 (Mon, 04 Mar 2024) EllapsedTime: 37.6 seconds RetCode: 0 Status: OK PackageFile: NetActivity_1.4.0.tgz PackageFileSize: 428.7 KiB