Package: NetActivity Version: 1.4.0 Command: /home/biocbuild/R/R-4.3.1/bin/R CMD check --install=check:NetActivity.install-out.txt --library=/home/biocbuild/R/R-4.3.1/site-library --no-vignettes --timings NetActivity_1.4.0.tar.gz StartedAt: 2023-11-02 12:39:01 -0000 (Thu, 02 Nov 2023) EndedAt: 2023-11-02 12:43:52 -0000 (Thu, 02 Nov 2023) EllapsedTime: 291.3 seconds RetCode: 0 Status: OK CheckDir: NetActivity.Rcheck Warnings: 0