Package: Nebulosa Version: 1.12.1 Command: /home/biocbuild/bbs-3.18-bioc/R/bin/R CMD INSTALL Nebulosa StartedAt: 2024-04-15 15:23:25 -0400 (Mon, 15 Apr 2024) EndedAt: 2024-04-15 15:23:53 -0400 (Mon, 15 Apr 2024) EllapsedTime: 28.1 seconds RetCode: 0 Status: OK