Package: Nebulosa Version: 1.12.1 Command: rm -rf Nebulosa.buildbin-libdir && mkdir Nebulosa.buildbin-libdir && /Users/biocbuild/BBS/utils/build-universal.sh Nebulosa_1.12.1.tar.gz /Library/Frameworks/R.framework/Resources/bin/R Nebulosa.buildbin-libdir StartedAt: 2024-03-04 00:53:27 -0500 (Mon, 04 Mar 2024) EndedAt: 2024-03-04 00:54:11 -0500 (Mon, 04 Mar 2024) EllapsedTime: 44.4 seconds RetCode: 0 Status: OK PackageFile: Nebulosa_1.12.1.tgz PackageFileSize: 3.068 MiB