Package: NanoTube Version: 1.8.0 Command: rm -rf NanoTube.buildbin-libdir && mkdir NanoTube.buildbin-libdir && /Users/biocbuild/BBS/utils/build-universal.sh NanoTube_1.8.0.tar.gz /Library/Frameworks/R.framework/Resources/bin/R NanoTube.buildbin-libdir StartedAt: 2024-04-16 12:18:54 -0400 (Tue, 16 Apr 2024) EndedAt: 2024-04-16 12:19:19 -0400 (Tue, 16 Apr 2024) EllapsedTime: 24.8 seconds RetCode: 0 Status: OK PackageFile: NanoTube_1.8.0.tgz PackageFileSize: 2.115 MiB