Package: NanoTube Version: 1.8.0 Command: /home/biocbuild/R/R-4.3.1/bin/R CMD INSTALL NanoTube StartedAt: 2023-11-01 20:49:09 -0000 (Wed, 01 Nov 2023) EndedAt: 2023-11-01 20:49:23 -0000 (Wed, 01 Nov 2023) EllapsedTime: 14.1 seconds RetCode: 0 Status: OK