Package: NanoStringDiff Version: 1.32.0 Command: /Library/Frameworks/R.framework/Resources/bin/R CMD check --install=check:NanoStringDiff.install-out.txt --library=/Library/Frameworks/R.framework/Resources/library --no-vignettes --timings NanoStringDiff_1.32.0.tar.gz StartedAt: 2024-03-03 22:08:30 -0500 (Sun, 03 Mar 2024) EndedAt: 2024-03-03 22:10:38 -0500 (Sun, 03 Mar 2024) EllapsedTime: 128.1 seconds RetCode: 0 Status: WARNINGS CheckDir: NanoStringDiff.Rcheck Warnings: 1