Package: NanoStringDiff Version: 1.32.0 Command: rm -rf NanoStringDiff.buildbin-libdir && mkdir NanoStringDiff.buildbin-libdir && /Users/biocbuild/BBS/utils/build-universal.sh NanoStringDiff_1.32.0.tar.gz /Library/Frameworks/R.framework/Resources/bin/R NanoStringDiff.buildbin-libdir StartedAt: 2024-03-04 00:53:15 -0500 (Mon, 04 Mar 2024) EndedAt: 2024-03-04 00:53:34 -0500 (Mon, 04 Mar 2024) EllapsedTime: 19.2 seconds RetCode: 0 Status: OK PackageFile: NanoStringDiff_1.32.0.tgz PackageFileSize: 469.1 KiB