Package: NTW Version: 1.52.0 Command: /home/biocbuild/bbs-3.18-bioc/R/bin/R CMD build --keep-empty-dirs --no-resave-data NTW StartedAt: 2024-04-15 18:15:05 -0400 (Mon, 15 Apr 2024) EndedAt: 2024-04-15 18:15:17 -0400 (Mon, 15 Apr 2024) EllapsedTime: 11.3 seconds RetCode: 0 Status: OK PackageFile: NTW_1.52.0.tar.gz PackageFileSize: 750 KiB