Package: NTW Version: 1.52.0 Command: /Library/Frameworks/R.framework/Resources/bin/R CMD INSTALL NTW StartedAt: 2024-03-03 15:05:50 -0500 (Sun, 03 Mar 2024) EndedAt: 2024-03-03 15:06:06 -0500 (Sun, 03 Mar 2024) EllapsedTime: 15.3 seconds RetCode: 0 Status: OK