Package: NTW Version: 1.52.0 Command: /home/biocbuild/R/R-4.3.1/bin/R CMD INSTALL NTW StartedAt: 2023-11-01 20:07:00 -0000 (Wed, 01 Nov 2023) EndedAt: 2023-11-01 20:07:23 -0000 (Wed, 01 Nov 2023) EllapsedTime: 22.9 seconds RetCode: 0 Status: OK