Package: NPARC Version: 1.14.0 Command: chmod a+r NPARC -R && F:\biocbuild\bbs-3.18-bioc\R\bin\R.exe CMD build --keep-empty-dirs --no-resave-data NPARC StartedAt: 2024-04-15 19:56:13 -0400 (Mon, 15 Apr 2024) EndedAt: 2024-04-15 20:00:43 -0400 (Mon, 15 Apr 2024) EllapsedTime: 269.5 seconds RetCode: 0 Status: OK PackageFile: NPARC_1.14.0.tar.gz PackageFileSize: 1.933 MiB