Package: NOISeq Version: 2.46.0 Command: rm -rf NOISeq.buildbin-libdir && mkdir NOISeq.buildbin-libdir && /Users/biocbuild/BBS/utils/build-universal.sh NOISeq_2.46.0.tar.gz /Library/Frameworks/R.framework/Resources/bin/R NOISeq.buildbin-libdir StartedAt: 2024-04-16 12:20:09 -0400 (Tue, 16 Apr 2024) EndedAt: 2024-04-16 12:20:35 -0400 (Tue, 16 Apr 2024) EllapsedTime: 26.0 seconds RetCode: 0 Status: OK PackageFile: NOISeq_2.46.0.tgz PackageFileSize: 2.425 MiB