Package: NOISeq Version: 2.46.0 Command: /Library/Frameworks/R.framework/Resources/bin/R CMD build --keep-empty-dirs --no-resave-data NOISeq StartedAt: 2024-03-03 17:36:41 -0500 (Sun, 03 Mar 2024) EndedAt: 2024-03-03 17:37:54 -0500 (Sun, 03 Mar 2024) EllapsedTime: 73.2 seconds RetCode: 0 Status: OK PackageFile: NOISeq_2.46.0.tar.gz PackageFileSize: 2.057 MiB