Package: NBAMSeq Version: 1.18.0 Command: /home/biocbuild/bbs-3.18-bioc/R/bin/R CMD build --keep-empty-dirs --no-resave-data NBAMSeq StartedAt: 2024-04-15 18:10:25 -0400 (Mon, 15 Apr 2024) EndedAt: 2024-04-15 18:11:16 -0400 (Mon, 15 Apr 2024) EllapsedTime: 51.8 seconds RetCode: 0 Status: OK PackageFile: NBAMSeq_1.18.0.tar.gz PackageFileSize: 278 KiB