Package: NBAMSeq Version: 1.18.0 Command: /Library/Frameworks/R.framework/Resources/bin/R CMD check --install=check:NBAMSeq.install-out.txt --library=/Library/Frameworks/R.framework/Resources/library --no-vignettes --timings NBAMSeq_1.18.0.tar.gz StartedAt: 2024-03-03 22:08:37 -0500 (Sun, 03 Mar 2024) EndedAt: 2024-03-03 22:12:47 -0500 (Sun, 03 Mar 2024) EllapsedTime: 250.1 seconds RetCode: 0 Status: OK CheckDir: NBAMSeq.Rcheck Warnings: 0