Package: NADfinder Version: 1.26.0 Command: /home/biocbuild/R/R-4.3.1/bin/R CMD INSTALL NADfinder StartedAt: 2023-11-01 21:06:42 -0000 (Wed, 01 Nov 2023) EndedAt: 2023-11-01 21:08:16 -0000 (Wed, 01 Nov 2023) EllapsedTime: 93.8 seconds RetCode: 0 Status: OK