Package: MungeSumstats Version: 1.10.1 Command: chmod a+r MungeSumstats -R && F:\biocbuild\bbs-3.18-bioc\R\bin\R.exe CMD build --keep-empty-dirs --no-resave-data MungeSumstats StartedAt: 2024-04-15 19:49:27 -0400 (Mon, 15 Apr 2024) EndedAt: 2024-04-15 19:51:15 -0400 (Mon, 15 Apr 2024) EllapsedTime: 108.4 seconds RetCode: 0 Status: OK PackageFile: MungeSumstats_1.10.1.tar.gz PackageFileSize: 1.835 MiB