Package: MungeSumstats Version: 1.10.1 Command: rm -rf MungeSumstats.buildbin-libdir && mkdir MungeSumstats.buildbin-libdir && F:\biocbuild\bbs-3.18-bioc\R\bin\R.exe CMD INSTALL --build --library=MungeSumstats.buildbin-libdir MungeSumstats_1.10.1.tar.gz StartedAt: 2024-04-16 07:20:54 -0400 (Tue, 16 Apr 2024) EndedAt: 2024-04-16 07:22:01 -0400 (Tue, 16 Apr 2024) EllapsedTime: 67.3 seconds RetCode: 0 Status: OK PackageFile: MungeSumstats_1.10.1.zip PackageFileSize: 2.231 MiB