Package: MungeSumstats Version: 1.10.1 Command: /home/biocbuild/bbs-3.18-bioc/R/bin/R CMD INSTALL MungeSumstats StartedAt: 2024-04-15 15:26:32 -0400 (Mon, 15 Apr 2024) EndedAt: 2024-04-15 15:27:19 -0400 (Mon, 15 Apr 2024) EllapsedTime: 46.3 seconds RetCode: 0 Status: OK