Package: MungeSumstats Version: 1.10.1 Command: /home/biocbuild/bbs-3.18-bioc/R/bin/R CMD check --install=check:MungeSumstats.install-out.txt --library=/home/biocbuild/bbs-3.18-bioc/R/site-library --timings MungeSumstats_1.10.1.tar.gz StartedAt: 2024-04-16 01:23:12 -0400 (Tue, 16 Apr 2024) EndedAt: 2024-04-16 01:53:56 -0400 (Tue, 16 Apr 2024) EllapsedTime: 1844.0 seconds RetCode: 1 Status: ERROR CheckDir: MungeSumstats.Rcheck Warnings: NA