Package: MungeSumstats Version: 1.10.1 Command: /home/biocbuild/bbs-3.18-bioc/R/bin/R CMD build --keep-empty-dirs --no-resave-data MungeSumstats StartedAt: 2024-04-15 18:08:39 -0400 (Mon, 15 Apr 2024) EndedAt: 2024-04-15 18:09:58 -0400 (Mon, 15 Apr 2024) EllapsedTime: 78.4 seconds RetCode: 0 Status: OK PackageFile: MungeSumstats_1.10.1.tar.gz PackageFileSize: 1.834 MiB