Package: MungeSumstats Version: 1.10.1 Command: /Library/Frameworks/R.framework/Resources/bin/R CMD INSTALL MungeSumstats StartedAt: 2024-03-03 15:20:59 -0500 (Sun, 03 Mar 2024) EndedAt: 2024-03-03 15:22:02 -0500 (Sun, 03 Mar 2024) EllapsedTime: 63.1 seconds RetCode: 0 Status: OK