Package: MungeSumstats Version: 1.10.1 Command: /Library/Frameworks/R.framework/Resources/bin/R CMD build --keep-empty-dirs --no-resave-data MungeSumstats StartedAt: 2024-03-03 17:32:56 -0500 (Sun, 03 Mar 2024) EndedAt: 2024-03-03 17:34:38 -0500 (Sun, 03 Mar 2024) EllapsedTime: 102.5 seconds RetCode: 0 Status: OK PackageFile: MungeSumstats_1.10.1.tar.gz PackageFileSize: 1.834 MiB