Package: MultiMed Version: 2.24.0 Command: /home/biocbuild/bbs-3.18-bioc/R/bin/R CMD INSTALL MultiMed StartedAt: 2024-04-15 15:42:55 -0400 (Mon, 15 Apr 2024) EndedAt: 2024-04-15 15:42:57 -0400 (Mon, 15 Apr 2024) EllapsedTime: 2.0 seconds RetCode: 0 Status: OK