Package: MultiMed Version: 2.24.0 Command: /Library/Frameworks/R.framework/Resources/bin/R CMD check --install=check:MultiMed.install-out.txt --library=/Library/Frameworks/R.framework/Resources/library --no-vignettes --timings MultiMed_2.24.0.tar.gz StartedAt: 2024-04-16 05:59:21 -0400 (Tue, 16 Apr 2024) EndedAt: 2024-04-16 06:00:03 -0400 (Tue, 16 Apr 2024) EllapsedTime: 41.2 seconds RetCode: 0 Status: OK CheckDir: MultiMed.Rcheck Warnings: 0