Package: MultiMed Version: 2.24.0 Command: /Library/Frameworks/R.framework/Resources/bin/R CMD INSTALL MultiMed StartedAt: 2024-03-03 15:38:13 -0500 (Sun, 03 Mar 2024) EndedAt: 2024-03-03 15:38:17 -0500 (Sun, 03 Mar 2024) EllapsedTime: 3.7 seconds RetCode: 0 Status: OK