Package: MultiMed Version: 2.24.0 Command: /home/biocbuild/R/R-4.3.1/bin/R CMD INSTALL MultiMed StartedAt: 2023-11-01 20:53:29 -0000 (Wed, 01 Nov 2023) EndedAt: 2023-11-01 20:53:31 -0000 (Wed, 01 Nov 2023) EllapsedTime: 2.0 seconds RetCode: 0 Status: OK