Package: MultiDataSet Version: 1.30.0 Command: /home/biocbuild/R/R-4.3.1/bin/R CMD build --keep-empty-dirs --no-resave-data MultiDataSet StartedAt: 2023-11-02 03:51:03 -0000 (Thu, 02 Nov 2023) EndedAt: 2023-11-02 03:52:15 -0000 (Thu, 02 Nov 2023) EllapsedTime: 71.1 seconds RetCode: 0 Status: OK PackageFile: MultiDataSet_1.30.0.tar.gz PackageFileSize: 544.2 KiB