Package: MsQuality Version: 1.2.1 Command: /Library/Frameworks/R.framework/Resources/bin/R CMD INSTALL MsQuality StartedAt: 2024-03-03 15:28:22 -0500 (Sun, 03 Mar 2024) EndedAt: 2024-03-03 15:29:08 -0500 (Sun, 03 Mar 2024) EllapsedTime: 46.5 seconds RetCode: 0 Status: OK