Package: MsFeatures Version: 1.10.0 Command: /home/biocbuild/bbs-3.18-bioc/R/bin/R CMD INSTALL MsFeatures StartedAt: 2024-04-15 15:13:08 -0400 (Mon, 15 Apr 2024) EndedAt: 2024-04-15 15:13:29 -0400 (Mon, 15 Apr 2024) EllapsedTime: 21.2 seconds RetCode: 0 Status: OK