Package: MsFeatures Version: 1.10.0 Command: /Library/Frameworks/R.framework/Resources/bin/R CMD check --install=check:MsFeatures.install-out.txt --library=/Library/Frameworks/R.framework/Resources/library --no-vignettes --timings MsFeatures_1.10.0.tar.gz StartedAt: 2024-04-16 05:49:10 -0400 (Tue, 16 Apr 2024) EndedAt: 2024-04-16 05:54:34 -0400 (Tue, 16 Apr 2024) EllapsedTime: 324.0 seconds RetCode: 0 Status: OK CheckDir: MsFeatures.Rcheck Warnings: 0