Package: MsFeatures Version: 1.10.0 Command: /Library/Frameworks/R.framework/Resources/bin/R CMD build --keep-empty-dirs --no-resave-data MsFeatures StartedAt: 2024-03-03 17:29:42 -0500 (Sun, 03 Mar 2024) EndedAt: 2024-03-03 17:30:40 -0500 (Sun, 03 Mar 2024) EllapsedTime: 58.8 seconds RetCode: 0 Status: OK PackageFile: MsFeatures_1.10.0.tar.gz PackageFileSize: 1.162 MiB