Package: MsFeatures Version: 1.10.0 Maintainer: Johannes Rainer MaintainerEmail: Johannes.Rainer at eurac.edu git_url: https://git.bioconductor.org/packages/MsFeatures git_branch: RELEASE_3_18 git_last_commit: 206e190 git_last_commit_date: 2023-10-24 11:29:35 -0400 (Tue, 24 Oct 2023)